BEGIN:VCALENDAR
VERSION:2.0
PRODID:-//Elva Resa Publishing - ECPv6.15.20//NONSGML v1.0//EN
CALSCALE:GREGORIAN
METHOD:PUBLISH
X-WR-CALNAME:Elva Resa Publishing
X-ORIGINAL-URL:https://elvaresa.com
X-WR-CALDESC:Events for Elva Resa Publishing
REFRESH-INTERVAL;VALUE=DURATION:PT1H
X-Robots-Tag:noindex
X-PUBLISHED-TTL:PT1H
BEGIN:VTIMEZONE
TZID:America/Chicago
BEGIN:DAYLIGHT
TZOFFSETFROM:-0600
TZOFFSETTO:-0500
TZNAME:CDT
DTSTART:20200308T080000
END:DAYLIGHT
BEGIN:STANDARD
TZOFFSETFROM:-0500
TZOFFSETTO:-0600
TZNAME:CST
DTSTART:20201101T070000
END:STANDARD
BEGIN:DAYLIGHT
TZOFFSETFROM:-0600
TZOFFSETTO:-0500
TZNAME:CDT
DTSTART:20210314T080000
END:DAYLIGHT
BEGIN:STANDARD
TZOFFSETFROM:-0500
TZOFFSETTO:-0600
TZNAME:CST
DTSTART:20211107T070000
END:STANDARD
BEGIN:DAYLIGHT
TZOFFSETFROM:-0600
TZOFFSETTO:-0500
TZNAME:CDT
DTSTART:20220313T080000
END:DAYLIGHT
BEGIN:STANDARD
TZOFFSETFROM:-0500
TZOFFSETTO:-0600
TZNAME:CST
DTSTART:20221106T070000
END:STANDARD
END:VTIMEZONE
BEGIN:VEVENT
DTSTART;TZID=America/Chicago:20211013T170000
DTEND;TZID=America/Chicago:20211013T180000
DTSTAMP:20260419T072821
CREATED:20211011T165235Z
LAST-MODIFIED:20211011T181414Z
UID:8271-1634144400-1634148000@elvaresa.com
SUMMARY:Lightfoot Presents "Share Your Story" at NMSN Summit\, Oct. 13\, 2021
DESCRIPTION:Lizann Lightfoot\, author of Open When: Letters of Encouragement for Military Spouses\, will present a workshop called “Share Your Story: Using Military Life to Connect With Your Customers” at the virtual National Military Spouse Network (NMSN) Milspouse Career Summit on Wednesday\, Oct. 13\, 2021\, at 5 PM CDT. The interactive virtual workshop will air on Facebook Live\, streaming on the NMSN Facebook page. RSVP on the event page. \nSession description:\nStorytelling is an effective way to make yourself memorable to customers and potential clients. Many military spouses don’t realize they have great stories that can showcase their unique skill set. In this session\, Lizann will demonstrate why storytelling is an effective strategy for your business\, and explore several types of stories that have a maximum impact in a social media world. Then\, she will lead you through a brief storytelling workshop where you will brainstorm storytelling strategies for your business websites. \nFollow #milspouse #nmsnsummit21 on social media. The weeklong summit runs October 11-15\, 2021\, led by NMSN founder Sue Hoppin\, coauthor of Stories Around the Table: Laughter\, Wisdom\, and Strength in Military Life.
URL:https://elvaresa.com/event/lightfoot-presents-share-your-story-at-nmsn-summit-oct-13-2021/
CATEGORIES:Facebook Event,Military/Military Family,Speaker,virtual event
ATTACH;FMTTYPE=image/jpeg:https://elvaresa.com/media/Lightfoot_NMSN_2021-10.jpg
END:VEVENT
BEGIN:VEVENT
DTSTART;TZID=America/Chicago:20210518T150000
DTEND;TZID=America/Chicago:20210518T160000
DTSTAMP:20260419T072821
CREATED:20210517T145710Z
LAST-MODIFIED:20211012T141520Z
UID:5041-1621350000-1621353600@elvaresa.com
SUMMARY:Briggs to Speak at Small Business Marketing for Military Spouses Webinar by Hiring Our Heroes
DESCRIPTION:Laura Briggs\, author of Remote Work for Military Spouses: Find and Grow Your Meaningful Mobile Career\, will speak at the Small Business Marketing for Military Spouses webinar\, hosted by Hiring Our Heroes on May 18\, 2021\, at 4 PM eastern. \nLaura is a digital marketing expert and freelance writer. Passionate about connecting military spouses to meaningful career options no matter where they live\, Briggs founded the national nonprofit Operation Freelance\, which teaches military spouses how to start their freelance career. \nRegistration is required. Speakers will discuss how military spouses can market their business\, skillsets\, and products. The webinar will also address how to target an audience\, control a brand\, and navigate advertising efforts. \nThis webinar is a part of Hiring Our Heroes’  Military Spouse Entrepreneur Resource Program\, which is designed to gather the leading resources around the country for military spouses thinking about entrepreneurship and small business ownership. The entire entrepreneurship webinar schedule of events is available here.
URL:https://elvaresa.com/event/briggs-hiringourheroes_may2021/
CATEGORIES:virtual event
ATTACH;FMTTYPE=image/jpeg:https://elvaresa.com/media/blueprint-small-business.jpg
END:VEVENT
BEGIN:VEVENT
DTSTART;VALUE=DATE:20210510
DTEND;VALUE=DATE:20210515
DTSTAMP:20260419T072821
CREATED:20210506T150217Z
LAST-MODIFIED:20211012T142812Z
UID:4829-1620604800-1621036799@elvaresa.com
SUMMARY:Lightfoot Featured Speaker at Wives of Integrity Online Conference for Marriage Legacy Builders
DESCRIPTION:Lizann Lightfoot\, author of Open When: Letters of Encouragement for Military Spouses\, will be a featured speaker at the Wives of Integrity Online Conference\, hosted by Marriage Legacy Builders\, May 10-14\, 2021. \nLizann is a professional writer\, Marine Corps wife\, and mother of five. She will address the topic of “Managing Expectations When You’re Married to the Military.” She will speak during the event on May 11. \nRegistration is required\, and tickets are free. The 2021 Wives of Integrity Online Conference will include more than 60 speakers on topics ranging from military life\, intimacy\, communication\, spiritual growth\, finances\, raising children\, and more.
URL:https://elvaresa.com/event/lightfoot-wivesofintegrityconference_may2021/
CATEGORIES:Speaker,virtual event
ATTACH;FMTTYPE=image/jpeg:https://elvaresa.com/media/Wives-of-Integrity-2021_Lizann-Lightfoot_Open-When.jpg
END:VEVENT
BEGIN:VEVENT
DTSTART;VALUE=DATE:20210427
DTEND;VALUE=DATE:20210430
DTSTAMP:20260419T072821
CREATED:20210506T163702Z
LAST-MODIFIED:20210925T234327Z
UID:4984-1619481600-1619740799@elvaresa.com
SUMMARY:Weathers Speaks at 2021 Virtual Military Spouse Symposium
DESCRIPTION:Corie Weathers\, author of Sacred Spaces: My Journey to the Heart of Military Marriage\, will speak at the 2021 Virtual Military Spouse Symposium\, \nApril 27-29\, 2021\, hosted by Military OneSource. \n\n\nCorie is a licensed professional counselor (LPC) and a sought-after speaker and consultant. She will cover the topic “Boundaries in Marriage? How Better Communication Leads to Better Relationships” on April 29 at 11 AM eastern. \n\n\nRegistration is required\, and tickets are free.
URL:https://elvaresa.com/event/weathers-speaks-at-2021-virtual-military-spouse-symposium/
LOCATION:Military OneSource
CATEGORIES:Speaker,virtual event
ATTACH;FMTTYPE=:
END:VEVENT
BEGIN:VEVENT
DTSTART;TZID=America/Chicago:20210420T120000
DTEND;TZID=America/Chicago:20210420T130000
DTSTAMP:20260419T072821
CREATED:20210426T161241Z
LAST-MODIFIED:20210925T234327Z
UID:4923-1618920000-1618923600@elvaresa.com
SUMMARY:Lightfoot to Speak on Military Spouse Career Success Panel
DESCRIPTION:Lizann Lightfoot. author of Open When\, will speak on a panel about military spouse career success in the first of in a series of presentations about military spouse employment\, presented by General Assembly. Lizann’s panel “Empowering Military Spouses: How She Got There – Finding Career Success” will be live on April 20\, 2021 at 12 PM Central\, followed by a series of weekly webinars addressing a variety of military spouse employment topics. \nRegistration is free and open to the public on General Assembly.
URL:https://elvaresa.com/event/lightfoot-generalassembly-april2021/
CATEGORIES:Panel Discussion,virtual event
ATTACH;FMTTYPE=:
END:VEVENT
BEGIN:VEVENT
DTSTART;VALUE=DATE:20210417
DTEND;VALUE=DATE:20210419
DTSTAMP:20260419T072821
CREATED:20210415T151556Z
LAST-MODIFIED:20210925T234327Z
UID:4826-1618617600-1618790399@elvaresa.com
SUMMARY:Weathers and Lightfoot to Speak at Evolve Retreat for Seasoned Military Spouses
DESCRIPTION:Corie Weathers\, LPC\, NNC\, author of Sacred Spaces\, is a keynote speaker on April 18 for The Evolve Retreat for Seasoned Military Spouses\, April 17-18\, 2021. Lizann Lightfoot. author of Open When\, will serve as a coach/table leader for the retreat on April 17. \n\nThe Evolve Retreat for Seasoned Military Spouses is a two-day interactive virtual event for seasoned military spouses and newly retired spouses to discuss the challenges after many years of military life and approaching transition out of the military. Hosted by Pride & Grit\, the event will be on April 17 (11 AM to 5 PM Eastern) and April 18 (1 PM to 5 PM Eastern) and will include four keynote addresses with life coach-led small group discussions. \nThe event aims to help attendees: \n\n\nCultivate personal identity\nInvest in their marriages\nLearn tools to support their families\nIdentify and own their strengths\n\nMore details are available on PrideandGrit.com. Tickets are available for one or both days of the event\, and you can purchase your ticket here. Please note\, a recording of this event is not included with your ticket.
URL:https://elvaresa.com/event/weathers-lightfoot-evolveretreat_april2021/
CATEGORIES:Military/Military Family,virtual event
ATTACH;FMTTYPE=:
END:VEVENT
BEGIN:VEVENT
DTSTART;TZID=America/Chicago:20210329T103000
DTEND;TZID=America/Chicago:20210329T113000
DTSTAMP:20260419T072821
CREATED:20210323T182653Z
LAST-MODIFIED:20210925T234327Z
UID:4823-1617013800-1617017400@elvaresa.com
SUMMARY:Lizann Lightfoot Featured in Moving with the Military: Maker Monday on March\, 29\, 2021
DESCRIPTION:Elva Resa author Lizann Lightfoot will be featured in a Facebook Live event with Moving with the Military\, a home improvement and lifestyle web series. The virtual event is a part of Moving with the Military’s “Maker Monday” series and will be recorded live on Monday\, March 29 at 10:30 a.m. Central. \nLizann\, author of the forthcoming book Open When\, will demonstrate how to make a kid-friendly deployment countdown wall calendar and give the audience a template to download. \nCheck out previous Maker Monday streams in Moving with the Military’s video archive. \nMoving with the Military is a home improvement and lifestyle web series that helps military families makeover a room in their house. Thus\, turning it into a HOME. They share their stories with America—the struggles and the triumphs—and then reveal a beautifully redesigned space that we present to the family
URL:https://elvaresa.com/event/lightfoot-makermonday_march2021/
CATEGORIES:virtual event
ATTACH;FMTTYPE=:
END:VEVENT
END:VCALENDAR