BEGIN:VCALENDAR
VERSION:2.0
PRODID:-//Elva Resa Publishing - ECPv6.15.20//NONSGML v1.0//EN
CALSCALE:GREGORIAN
METHOD:PUBLISH
X-ORIGINAL-URL:https://elvaresa.com
X-WR-CALDESC:Events for Elva Resa Publishing
REFRESH-INTERVAL;VALUE=DURATION:PT1H
X-Robots-Tag:noindex
X-PUBLISHED-TTL:PT1H
BEGIN:VTIMEZONE
TZID:America/Chicago
BEGIN:DAYLIGHT
TZOFFSETFROM:-0600
TZOFFSETTO:-0500
TZNAME:CDT
DTSTART:20220313T080000
END:DAYLIGHT
BEGIN:STANDARD
TZOFFSETFROM:-0500
TZOFFSETTO:-0600
TZNAME:CST
DTSTART:20221106T070000
END:STANDARD
BEGIN:DAYLIGHT
TZOFFSETFROM:-0600
TZOFFSETTO:-0500
TZNAME:CDT
DTSTART:20230312T080000
END:DAYLIGHT
BEGIN:STANDARD
TZOFFSETFROM:-0500
TZOFFSETTO:-0600
TZNAME:CST
DTSTART:20231105T070000
END:STANDARD
BEGIN:DAYLIGHT
TZOFFSETFROM:-0600
TZOFFSETTO:-0500
TZNAME:CDT
DTSTART:20240310T080000
END:DAYLIGHT
BEGIN:STANDARD
TZOFFSETFROM:-0500
TZOFFSETTO:-0600
TZNAME:CST
DTSTART:20241103T070000
END:STANDARD
END:VTIMEZONE
BEGIN:VEVENT
DTSTART;TZID=America/Chicago:20231110T133000
DTEND;TZID=America/Chicago:20231110T142000
DTSTAMP:20260419T130104
CREATED:20231106T150728Z
LAST-MODIFIED:20231106T204834Z
UID:9685-1699623000-1699626000@elvaresa.com
SUMMARY:Lightfoot Speaks at Airlift/Tanker Symposium Nov 10\, 2023
DESCRIPTION:Lizann Lightfoot will be a seminar speaker at the annual Airlift/Tanker Association Symposium on Friday\, November 10\, 2023\, 1:30-2:20 PM CT. The author of Open When: Letters of Encouragement for Military Spouses will present a session called “How Military Spouses Develop Warrior Hearts When Military Life Isn’t Getting Easier.” She will share her personal stories and offer encouraging advice for a variety of military life situations. \nThe Airlift/Tanker Association Symposium is a premier professional development forum with an aim to develop airmen into joint leaders. The 2023 Symposium and Tech expo is at the Gaylord Texan\, Grapevine\, Texas\, November 9-12\, 2023. \nLizann will be available to sign copies of Open When throughout the event. \n 
URL:https://elvaresa.com/event/lightfoot-speaks-at-airlift-tanker-symposium-nov-10-2023/
LOCATION:VA
CATEGORIES:Military/Military Family,Speaker
ATTACH;FMTTYPE=image/jpeg:https://elvaresa.com/media/IMG_20211118_103021_822.jpg
END:VEVENT
END:VCALENDAR