BEGIN:VCALENDAR
VERSION:2.0
PRODID:-//Elva Resa Publishing - ECPv6.15.20//NONSGML v1.0//EN
CALSCALE:GREGORIAN
METHOD:PUBLISH
X-ORIGINAL-URL:https://elvaresa.com
X-WR-CALDESC:Events for Elva Resa Publishing
REFRESH-INTERVAL;VALUE=DURATION:PT1H
X-Robots-Tag:noindex
X-PUBLISHED-TTL:PT1H
BEGIN:VTIMEZONE
TZID:America/Chicago
BEGIN:DAYLIGHT
TZOFFSETFROM:-0600
TZOFFSETTO:-0500
TZNAME:CDT
DTSTART:20210314T080000
END:DAYLIGHT
BEGIN:STANDARD
TZOFFSETFROM:-0500
TZOFFSETTO:-0600
TZNAME:CST
DTSTART:20211107T070000
END:STANDARD
BEGIN:DAYLIGHT
TZOFFSETFROM:-0600
TZOFFSETTO:-0500
TZNAME:CDT
DTSTART:20220313T080000
END:DAYLIGHT
BEGIN:STANDARD
TZOFFSETFROM:-0500
TZOFFSETTO:-0600
TZNAME:CST
DTSTART:20221106T070000
END:STANDARD
BEGIN:DAYLIGHT
TZOFFSETFROM:-0600
TZOFFSETTO:-0500
TZNAME:CDT
DTSTART:20230312T080000
END:DAYLIGHT
BEGIN:STANDARD
TZOFFSETFROM:-0500
TZOFFSETTO:-0600
TZNAME:CST
DTSTART:20231105T070000
END:STANDARD
END:VTIMEZONE
BEGIN:VEVENT
DTSTART;TZID=America/Chicago:20221111T100000
DTEND;TZID=America/Chicago:20221111T180000
DTSTAMP:20260420T092239
CREATED:20221111T170615Z
LAST-MODIFIED:20221111T174204Z
UID:9306-1668160800-1668189600@elvaresa.com
SUMMARY:Veterans Experience Project Showcases Photos by JT Blatty\, November 11\, 2022\, New Orleans
DESCRIPTION:JT Blatty\, author of the forthcoming memoir Snapshots Sent Home (Elva Resa\, 2023)\, will read excerpts from her manuscript and talk about her photojournalist exhibit “Front Line\, Peace Life” during Bastion Community of Resilience’s Veterans Experience Project (VEP). Sponsored by Got Your Six\, a Bob Woodruff Foundation Initiative\, VEP takes place Friday\, November 11\, 2022\, 10 AM—6 PM Central\, at Gallier Hall\, 545 Saint Charles Ave\, New Orleans. \nThe hands-on event explores diverse military experiences through artistic expression and interactive exhibits\, including visual art\, the written and spoken word\, performances and curated discussion panels\, followed by a dialogue with the audience to provide further understanding into the servicemember experiences. A number of nationally renowned veterans will be presenting at VEP. \nJT will take the main stage at 1:30 PM. As a photojournalist\, JT’s work has been featured in many publications\, including Bloomberg\, Oxford American\, and The Daily Beast. She spent the past four years in Ukraine. “Front Line\, Peace Life” shares the stories of Ukrainian volunteer soldiers fighting to preserve their country’s democracy. \nBastion is an intentional community for returning warriors and families with life-altering injuries\, with a mission to provide a supportive living environment for injured veterans and families and a holistic approach to community integration. \nThe event is free and open to the public. For more information about Veterans Experience Project\, visit JoinBastion.org. \n*Photo with this event posting is a portrait titled Yulya “Valkyrie” Tolopa by JT Blatty. \nValkyrie crossed the Ukrainian border from Russia in 2014\, when she was 18\, inspired to understand the true events of the Maidan revolution versus reports from the Russian media. By June she was on a bus heading to the frontline to fight with the Ukrainians against the Russian invasion. She joined the Aydar Volunteer Battalion and helped liberate and defend towns in the Luhansk region until 2015. She served on the frontline in the Ukrainian Armed Forces as a Russian citizen until 2019\, protected by Ukraine from Russia’s request for extradition. She finally received Ukrainian citizenship in 2022\, after a six-year battle fighting Ukraine’s law requiring her to renounce her foreign citizenship on Russian territory\, where she is not safe and is wanted as a traitor.
URL:https://elvaresa.com/event/veterans-experience-project-showcases-photos-by-jt-blatty-nov-11-2022-new-orleans/
LOCATION:VA
CATEGORIES:Art Exhibit,Military/Military Family,Performance,Speaker
ATTACH;FMTTYPE=image/jpeg:https://elvaresa.com/media/VEP-11-11-22.jpg
END:VEVENT
END:VCALENDAR