BEGIN:VCALENDAR
VERSION:2.0
PRODID:-//Elva Resa Publishing - ECPv6.15.20//NONSGML v1.0//EN
CALSCALE:GREGORIAN
METHOD:PUBLISH
X-ORIGINAL-URL:https://elvaresa.com
X-WR-CALDESC:Events for Elva Resa Publishing
REFRESH-INTERVAL;VALUE=DURATION:PT1H
X-Robots-Tag:noindex
X-PUBLISHED-TTL:PT1H
BEGIN:VTIMEZONE
TZID:America/Chicago
BEGIN:DAYLIGHT
TZOFFSETFROM:-0600
TZOFFSETTO:-0500
TZNAME:CDT
DTSTART:20120311T080000
END:DAYLIGHT
BEGIN:STANDARD
TZOFFSETFROM:-0500
TZOFFSETTO:-0600
TZNAME:CST
DTSTART:20121104T070000
END:STANDARD
BEGIN:DAYLIGHT
TZOFFSETFROM:-0600
TZOFFSETTO:-0500
TZNAME:CDT
DTSTART:20130310T080000
END:DAYLIGHT
BEGIN:STANDARD
TZOFFSETFROM:-0500
TZOFFSETTO:-0600
TZNAME:CST
DTSTART:20131103T070000
END:STANDARD
BEGIN:DAYLIGHT
TZOFFSETFROM:-0600
TZOFFSETTO:-0500
TZNAME:CDT
DTSTART:20140309T080000
END:DAYLIGHT
BEGIN:STANDARD
TZOFFSETFROM:-0500
TZOFFSETTO:-0600
TZNAME:CST
DTSTART:20141102T070000
END:STANDARD
BEGIN:DAYLIGHT
TZOFFSETFROM:-0600
TZOFFSETTO:-0500
TZNAME:CDT
DTSTART:20150308T080000
END:DAYLIGHT
BEGIN:STANDARD
TZOFFSETFROM:-0500
TZOFFSETTO:-0600
TZNAME:CST
DTSTART:20151101T070000
END:STANDARD
END:VTIMEZONE
BEGIN:VEVENT
DTSTART;TZID=America/Chicago:20140327T110000
DTEND;TZID=America/Chicago:20140327T130000
DTSTAMP:20260420T090945
CREATED:20140314T131454Z
LAST-MODIFIED:20210925T234459Z
UID:7234-1395918000-1395925200@elvaresa.com
SUMMARY:Pavlicin\, Scherer\, Smiley Sign Books at Henderson Hall MCX March 27\, 2014
DESCRIPTION:Karen Pavlicin\, author of Life After Deployment; Holly Scherer\, coauthor of Military Spouse Journey; and Sarah Smiley\, author of Dinner with the Smileys\, will sign books at Henderson Hall Marine Corps Exchange\, Joint Base Fort Myer-Henderson Hall\, Virginia\, on Thursday\, March 27\, 2014\, 11 AM – 1 PM Eastern. Mrs. Bonnie Amos\, First Lady of the Marine Corps\, will join these authors to celebrate their inclusion on her recommended reading list. \nPlease contact pr@elvaresa.com for additional information or to request an event.
URL:https://elvaresa.com/event/pavlicin-scherer-henderson-hall-mar2014/
LOCATION:Tanya Biank (HR)
CATEGORIES:Book Signing
ATTACH;FMTTYPE=:
END:VEVENT
BEGIN:VEVENT
DTSTART;TZID=America/Chicago:20140322T100000
DTEND;TZID=America/Chicago:20140322T120000
DTSTAMP:20260420T090945
CREATED:20140221T215923Z
LAST-MODIFIED:20210925T234459Z
UID:893-1395482400-1395489600@elvaresa.com
SUMMARY:Barnes Signs Books in Altus\, OK March 22\, 2014
DESCRIPTION:Terri Barnes\, author of Spouse Calls: Messages From a Military Life\, will be host an open house reception and sign books at Confectionately Yours aka Jouett’s Java\, 106 W. Cypress St\, Altus\, Oklahoma\, on Saturday\, March 22\, 2014\, at 10 AM Central. Join Terri and friends for the launch celebration of the March release of her book. There is no cost to attend and meet the author. This event is open to the public. Books will be available for purchase. \nPlease contact pr@elvaresa.com for additional information or to request an event.
URL:https://elvaresa.com/event/barnes-booksigning-altus-march2014/
LOCATION:Confectionately Yours\, 106 W. Cypress St\,  Altus\, OK\, 73521\, United States
CATEGORIES:Book Signing
ATTACH;FMTTYPE=:
END:VEVENT
BEGIN:VEVENT
DTSTART;TZID=America/Chicago:20140314T190000
DTEND;TZID=America/Chicago:20140314T220000
DTSTAMP:20260420T090945
CREATED:20140208T014516Z
LAST-MODIFIED:20210925T234500Z
UID:7232-1394823600-1394834400@elvaresa.com
SUMMARY:Scherer Keynotes Operation Homefront's Spouse Night Out March 14\, 2014
DESCRIPTION:Holly Scherer\, coauthor of Military Spouse Journey will be the keynote speaker at Operation Homefront’s Spouse Night Out on Friday\, March 14\, 2014\, at 7 PM Pacific\, at The Aliante Resort in Las Vegas\, Nevada.  Join her for an evening of fun and information for spouses\, along with dinner and gifts. Participants will receive a free copy of Holly’s book and she will be available to sign books following the event. \nPlease contact pr@elvaresa.com for additional information or to request an event.
URL:https://elvaresa.com/event/scherer-operation-homefront-mar2014/
LOCATION:Lori McElrath-Eslick
CATEGORIES:Book Signing,Keynote
ATTACH;FMTTYPE=image/png:https://elvaresa.com/media/Branson-Stars-Award-1.png
ORGANIZER;CN="Annie Baca%2C Executive Director Nevada":MAILTO:Annie.Baca @ operationhomefront.net
END:VEVENT
BEGIN:VEVENT
DTSTART;TZID=America/Chicago:20140311T140000
DTEND;TZID=America/Chicago:20140311T170000
DTSTAMP:20260420T090945
CREATED:20140305T175111Z
LAST-MODIFIED:20210925T234457Z
UID:7238-1394546400-1394557200@elvaresa.com
SUMMARY:Spring Midwest Booksellers Hosts Authors March 11\, 2014
DESCRIPTION:Midwest Independent Booksellers Association (MIBA) and American Booksellers Association will host a spring meeting open to all indie booksellers March 11\, 2014 in Minneapolis. \nAuthor Karen Pavlicin is one of fourteen authors invited to participate in a moveable feast style event. Karen will introduce booksellers to her book Summer of Courage (April 1 release). Her table partner and fellow middle grade author Erin Soderberg will talk about her forthcoming The Quirks in Circus Quirkus. \nAuthors will travel with dessert as they visit each table of booksellers. The author event follows the spring MIBA meeting and includes complimentary galleys/books and a book signing. \nThe annual spring meeting brings booksellers\, publishers\, and authors together to talk about bookselling and provide booksellers an opportunity to meet authors with newly released or forthcoming books. \nTuesday\, March 11: Minneapolis\, MN\nIn conjunction with ABA and University of Minnesota Bookstore\, Coffman Memorial Union (Mississippi Room)\, University of Minnesota\, 300 Washington Avenue S.E.\, Minneapolis\, MN 55455 \nElva Resa is a member of MIBA and supports indie booksellers.
URL:https://elvaresa.com/event/pavlicin-miba-mar2014/
CATEGORIES:Book Signing,Bookseller Event
ATTACH;FMTTYPE=:
END:VEVENT
BEGIN:VEVENT
DTSTART;TZID=America/Chicago:20140301T110000
DTEND;TZID=America/Chicago:20140301T140000
DTSTAMP:20260420T090945
CREATED:20140101T163029Z
LAST-MODIFIED:20210925T234458Z
UID:7228-1393671600-1393682400@elvaresa.com
SUMMARY:Hightower Signs Books at Miramar MCX March 1\, 2014
DESCRIPTION:Kathie Hightower\, coauthor of Military Spouse Journey\, will sign books at the Marine Corps Exchange\, Marine Corps Air Station Miramar\, California\, on March 1\, 2014. \nPlease contact pr@elvaresa.com for additional information or to request an event.
URL:https://elvaresa.com/event/hightower-miramar-mar2014/
LOCATION:Miramar MCX\, San Diego\, 92145
CATEGORIES:Book Signing
ATTACH;FMTTYPE=:
END:VEVENT
BEGIN:VEVENT
DTSTART;TZID=America/Chicago:20140228T190000
DTEND;TZID=America/Chicago:20140228T220000
DTSTAMP:20260420T090945
CREATED:20140122T161311Z
LAST-MODIFIED:20210925T234458Z
UID:348-1393614000-1393624800@elvaresa.com
SUMMARY:Hightower Keynotes Operation Homefront's Spouse Night Out Feb. 28\, 2014
DESCRIPTION:Kathie Hightower\, coauthor of Military Spouse Journey will be the Keynote Speaker at Operation Homefront’s Spouse Night Out on February 28\, 2014\, at 7 PM Pacific\, in San Diego\, California.  Join her for an evening of fun & information for spouses\, along with dinner and gifts. Participants will receive a free copy of Kathie’s book and she will be available to sign books following the event. \nPlease contact pr@elvaresa.com for additional information or to request an event.
URL:https://elvaresa.com/event/hightower-operation-homefront-feb2014/
LOCATION:Humphries Half Moon Inn\, 2303 Shelter Island Dr.\, San Diego\, 92106
CATEGORIES:Book Signing,Keynote,Speaker
ATTACH;FMTTYPE=:
END:VEVENT
BEGIN:VEVENT
DTSTART;TZID=America/Chicago:20140214T113000
DTEND;TZID=America/Chicago:20140214T130000
DTSTAMP:20260420T090945
CREATED:20140208T015923Z
LAST-MODIFIED:20210925T234458Z
UID:7233-1392377400-1392382800@elvaresa.com
SUMMARY:Scherer Keynotes National Marine Corps League Auxiliary Mid-Winter Conference Feb. 14\, 2014
DESCRIPTION:Holly Scherer\, coauthor of Military Spouse Journey will be the keynote speaker at the National Marine Corps League Auxiliary Mid-Winter Staff Conference on Friday\, Feb. 14\, 2014\, at 11:30 AM Eastern\, at Fairview Park Marriott in Falls Church\, Virginia.  Holly will talk about The First Lady of the Marine Corps Recommended Reading List. Copies of her books will be available for sale and Holly will sign books following the luncheon. \nThe event is open to members of National Marine Corps League Auxiliary. \nPlease contact pr@elvaresa.com for additional information or to request an event.
URL:https://elvaresa.com/event/scherer-marine-corps-league-feb2014/
LOCATION:Deborah Tainsh
CATEGORIES:Book Signing,Keynote
ATTACH;FMTTYPE=image/png:https://elvaresa.com/media/Branson-Stars-Award-1.png
END:VEVENT
BEGIN:VEVENT
DTSTART;VALUE=DATE:20131022
DTEND;VALUE=DATE:20131023
DTSTAMP:20260420T090945
CREATED:20140122T200258Z
LAST-MODIFIED:20210925T234456Z
UID:7230-1382400000-1382486399@elvaresa.com
SUMMARY:Hightower & Scherer Sign Books at AUSA\, Oct. 2013
DESCRIPTION:Kathie Hightower and Holly Scherer\, coauthors of Military Spouse Journey will sign books at the Military Spouse CEO Experience booth during the AUSA Conference on October 22\, 2013. Booth 1561\, Exhibit Hall A\, Walter E Washington Convention Center. \nPlease contact pr@elvaresa.com for additional information or to request an event.
URL:https://elvaresa.com/event/hightower-scherer-ausa-oct2013/
LOCATION:Seasons-Book-Club_Discussion-Guide_2019-Cover-1
CATEGORIES:Book Signing
ATTACH;FMTTYPE=:
END:VEVENT
END:VCALENDAR